BEGIN:VCALENDAR
VERSION:2.0
PRODID:-//wp-events-plugin.com//7.2.3.1//EN
BEGIN:VEVENT
UID:154@ahqe.org
DTSTART:20240329T140000Z
DTEND:20240329T150000Z
DTSTAMP:20231127T222214Z
URL:https://ahqe.org/upcoming-events/legislative-system-improvements-commi
 ttee-3/
SUMMARY:Legislative / System Improvements Committee
DESCRIPTION:
CATEGORIES:Legislative Committee
END:VEVENT
END:VCALENDAR