BEGIN:VCALENDAR
VERSION:2.0
PRODID:-//wp-events-plugin.com//7.2.3.1//EN
BEGIN:VEVENT
UID:161@ahqe.org
DTSTART:20241111T160000Z
DTEND:20241111T170000Z
DTSTAMP:20240328T213316Z
URL:https://ahqe.org/upcoming-events/legislative-system-improvements-commi
 ttee-10/
SUMMARY:Alliance Annual Meeting
DESCRIPTION:
CATEGORIES:Legislative Committee
END:VEVENT
END:VCALENDAR