BEGIN:VCALENDAR
VERSION:2.0
PRODID:-//wp-events-plugin.com//7.2.3.1//EN
BEGIN:VEVENT
UID:182@ahqe.org
DTSTART:20240925T133000Z
DTEND:20240925T143000Z
DTSTAMP:20240314T221449Z
URL:https://ahqe.org/upcoming-events/executive-meeting/
SUMMARY:Executive Meeting
DESCRIPTION:Public Welcome - Request Meeting Invite Link \n\n[formidable id
 =4]
CATEGORIES:Executive Committee
END:VEVENT
END:VCALENDAR