BEGIN:VCALENDAR
VERSION:2.0
PRODID:-//wp-events-plugin.com//7.2.3.1//EN
BEGIN:VEVENT
UID:184@ahqe.org
DTSTART:20240424T133000Z
DTEND:20240424T143000Z
DTSTAMP:20240407T125508Z
URL:https://ahqe.org/upcoming-events/executive-meeting-april-2024/
SUMMARY:Executive Meeting April 2024
DESCRIPTION:Public Welcome - Request Meeting Invite Link \n\n[formidable id
 =4]
CATEGORIES:Executive Committee
END:VEVENT
END:VCALENDAR