BEGIN:VCALENDAR
VERSION:2.0
PRODID:-//wp-events-plugin.com//7.2.3.1//EN
BEGIN:VEVENT
UID:183@ahqe.org
DTSTART:20241023T133000Z
DTEND:20241023T143000Z
DTSTAMP:20240314T221548Z
URL:https://ahqe.org/upcoming-events/executive-meeting-2/
SUMMARY:Executive Meeting
DESCRIPTION:Public Welcome - Request Meeting Invite Link \n\n[formidable id
 =4]
CATEGORIES:Executive Committee
END:VEVENT
END:VCALENDAR