BEGIN:VCALENDAR
VERSION:2.0
PRODID:-//wp-events-plugin.com//7.2.3.1//EN
BEGIN:VEVENT
UID:1@ahqe.org
DTSTART:20131009T133000Z
DTEND:20131009T160000Z
DTSTAMP:20130909T122917Z
URL:https://ahqe.org/upcoming-events/alliance-summit/
SUMMARY:Alliance Summit
DESCRIPTION:In June of 2012\, the Alliance held a “Summit” to get membe
 r feedback regarding the impending changes in the State Report Card and po
 ssible alternative “Quality Reports” that could be tailored to the pri
 orities expressed by taxpayers and parents within a particular district.\n
 \nShortly thereafter\, a number of school districts in Hamilton and nearby
  counties\, including most Alliance districts in the area\, began working 
 on a template of various rating factors that could be used by districts to
  design a self-evaluation format that reflects the priorities of the commu
 nity as determined by the input of concerned citizens. Those priorities ar
 e then used to produce a comprehensive report for constituents that\, unli
 ke the State Report Card which relies almost exclusively on test results\,
  also evaluates the performance of the district in such areas as opportuni
 ties provided\, scholarships and other honors won\, arts offerings\, AP of
 ferings\, extra-curricular programming and other areas of expectation\, in
  addition to academic performance as determined by test results. Pilot “
 Quality Reports” have been adopted by several participating school distr
 icts and are scheduled for release in early August.\n\nThe Alliance is als
 o participating in a new statewide opinion survey\, to be conducted in Sep
 tember\, seeking information regarding public attitudes toward state repor
 t cards and other forms of district evaluation. The Alliance is submitting
  several questions to be included in that survey\, the results of which wi
 ll be available by October 1.\n\nIn order to further pursue the organizati
 on’s desire to provide member district constituents a comprehensive\, an
 d accurate\, evaluation of district performance based upon the community
 ’s own priorities\, the Executive Committee has scheduled a second “Su
 mmit” to review the results and community reaction to the first “Quali
 ty Reports” and to discuss the information generated by the statewide su
 rvey.\n\nPlease join us at 9:30 a.m. on October 9th in the OSBA conference
  room. Feel free to invite board members\, as well as members of your admi
 nistrative staff if you would like. Please register below. If you have an
 y questions\, please call the Alliance Office at (614) 824-2273.
LOCATION:OSBA Conference Room\, 8050 N High St\, Columbus\, Ohio\, 43235\, 
 United States
GEO:40.128683;-83.01532099999997
X-APPLE-STRUCTURED-LOCATION;VALUE=URI;X-ADDRESS=8050 N High St\, Columbus\,
  Ohio\, 43235\, United States;X-APPLE-RADIUS=100;X-TITLE=OSBA Conference R
 oom:geo:40.128683,-83.01532099999997
END:VEVENT
END:VCALENDAR