BEGIN:VCALENDAR
VERSION:2.0
PRODID:-//wp-events-plugin.com//7.2.3.1//EN
BEGIN:VEVENT
UID:7@ahqe.org
DTSTART;VALUE=DATE:20180110
DTEND;VALUE=DATE:20180111
DTSTAMP:20180105T223705Z
URL:https://ahqe.org/upcoming-events/alliance-legislative-committee-meetin
 g-2018-01-10/
SUMMARY:Legislative Committee Meeting - CANCELLED
DESCRIPTION:This meeting has been cancelled
ATTACH;FMTTYPE=image/jpeg:https://ahqe.org/wp-content/uploads/2017/12/Even
 t-cancelled.jpg
CATEGORIES:Cancelled
END:VEVENT
END:VCALENDAR