BEGIN:VCALENDAR
VERSION:2.0
PRODID:-//wp-events-plugin.com//7.2.3.1//EN
BEGIN:VEVENT
UID:113@ahqe.org
DTSTART;VALUE=DATE:20191111
DTEND;VALUE=DATE:20191112
DTSTAMP:20190117T001443Z
URL:https://ahqe.org/upcoming-events/alliance-annual-meeting/
SUMMARY:Alliance Annual Meeting
DESCRIPTION:
CATEGORIES:Regional Meeting
END:VEVENT
END:VCALENDAR