BEGIN:VCALENDAR
VERSION:2.0
PRODID:-//wp-events-plugin.com//7.2.3.1//EN
BEGIN:VEVENT
UID:2@ahqe.org
DTSTART:20131111T153000Z
DTEND:20131111T170000Z
DTSTAMP:20130810T174910Z
URL:https://ahqe.org/upcoming-events/alliance-annual-meeting-luncheon/
SUMMARY:Alliance Annual Meeting & Luncheon
DESCRIPTION:&nbsp\;&nbsp\;&nbsp\;&nbsp\;&nbsp\;&nbsp\;&nbsp\;&nbsp\; If you
  haven’t already begun to do so\, it’s time to make plans for the Capi
 tal Conference\, and we want to be sure that the Alliance Annual Meeting a
 nd Luncheon is your Number One priority.\n&nbsp\;\n&nbsp\;&nbsp\;&nbsp\;&n
 bsp\;&nbsp\;&nbsp\;&nbsp\;&nbsp\;Again this year\, we are arranging for ti
 mely discussions with prominent legislators to be a part of the annual mee
 ting. This November they will be asked to comment on the new and projected
  future school funding formulas and the new – and improved? – school r
 eport card. We will also provide additional information regarding the deve
 lopment of a district “Quality Report” template now being piloted by A
 lliance districts in the southwest part of the state.\n&nbsp\;\nPlease mar
 k your calendar for…\nMonday\, November 11\, 2013 in the Bellows Rooms A
 \, B and C in the new Hilton Downtown Columbus\, 401 N. High St.\, (adjace
 nt to the Columbus Convention Center\, connected by a covered walkway.)\n&
 nbsp\;\n&nbsp\;&nbsp\;&nbsp\;&nbsp\;&nbsp\;&nbsp\;&nbsp\;&nbsp\; The buffe
 t luncheon cost remains the same this year at $30.00 per person and opens 
 at 11:45 a.m.\; the business meeting begins at 12:15\, followed by the pan
 el discussion.\n&nbsp\;\n&nbsp\;&nbsp\;&nbsp\;&nbsp\;&nbsp\;&nbsp\;&nbsp\;
 &nbsp\; Since converting to a luncheon format\, attendance has increased e
 very year\, so please secure your reservations as soon as possible with th
 e reservation form below.
LOCATION:Hilton Downtown Columbus\, 401 N. High St.\, Columbus\, Ohio\, 432
 15\, United States
GEO:39.9695908;-83.0020965
X-APPLE-STRUCTURED-LOCATION;VALUE=URI;X-ADDRESS=401 N. High St.\, Columbus\
 , Ohio\, 43215\, United States;X-APPLE-RADIUS=100;X-TITLE=Hilton Downtown 
 Columbus:geo:39.9695908,-83.0020965
END:VEVENT
END:VCALENDAR